BEGIN:VCALENDAR
VERSION:2.0
PRODID:-//Mansion Hill Inn - ECPv6.15.20//NONSGML v1.0//EN
CALSCALE:GREGORIAN
METHOD:PUBLISH
X-ORIGINAL-URL:https://mansionhillinn.com
X-WR-CALDESC:Events for Mansion Hill Inn
REFRESH-INTERVAL;VALUE=DURATION:PT1H
X-Robots-Tag:noindex
X-PUBLISHED-TTL:PT1H
BEGIN:VTIMEZONE
TZID:America/Chicago
BEGIN:DAYLIGHT
TZOFFSETFROM:-0600
TZOFFSETTO:-0500
TZNAME:CDT
DTSTART:20240310T080000
END:DAYLIGHT
BEGIN:STANDARD
TZOFFSETFROM:-0500
TZOFFSETTO:-0600
TZNAME:CST
DTSTART:20241103T070000
END:STANDARD
BEGIN:DAYLIGHT
TZOFFSETFROM:-0600
TZOFFSETTO:-0500
TZNAME:CDT
DTSTART:20250309T080000
END:DAYLIGHT
BEGIN:STANDARD
TZOFFSETFROM:-0500
TZOFFSETTO:-0600
TZNAME:CST
DTSTART:20251102T070000
END:STANDARD
BEGIN:DAYLIGHT
TZOFFSETFROM:-0600
TZOFFSETTO:-0500
TZNAME:CDT
DTSTART:20260308T080000
END:DAYLIGHT
BEGIN:STANDARD
TZOFFSETFROM:-0500
TZOFFSETTO:-0600
TZNAME:CST
DTSTART:20261101T070000
END:STANDARD
END:VTIMEZONE
BEGIN:VEVENT
DTSTART;TZID=America/Chicago:20250627T183000
DTEND;TZID=America/Chicago:20250627T210000
DTSTAMP:20260420T045005
CREATED:20250501T103949Z
LAST-MODIFIED:20250627T183434Z
UID:10000015-1751049000-1751058000@mansionhillinn.com
SUMMARY:Jazz & Cocktails with the Bill Roberts Combo
DESCRIPTION:Join us for jazz blues with the Bill Roberts Combo. Doors open 5:30\, show 6:30-9 pm.\n\n\n“Founded in 2014\, the Bill Roberts Combo brings a tight\, nuanced\, and rhythmically powerful presentation to blues-jazz unlike anything you’ve heard before. The Bill Roberts Combo plays many top venues in Madison and the upper Midwest. BRC delivers grace\, subtlety\, power and passion in their unique and mesmerizing take on the jazz-blues tradition every time they take the stage.”  \n– Madison Jazz Calendar
URL:https://mansionhillinn.com/event/jazz-cocktails-with-the-bill-roberts-combo-3/
LOCATION:Mansion Hill Inn\, 424 North Pinckney Street\, Madison\, WI\, 53703\, United States
ATTACH;FMTTYPE=image/jpeg:https://mansionhillinn.com/wp-content/uploads/2025/05/7be5be862883015c8c9af248f3257c12-AQCc3k.tmp_.jpg
END:VEVENT
BEGIN:VEVENT
DTSTART;TZID=America/Chicago:20250621T183000
DTEND;TZID=America/Chicago:20250621T210000
DTSTAMP:20260420T045005
CREATED:20250523T155705Z
LAST-MODIFIED:20250523T155705Z
UID:10000017-1750530600-1750539600@mansionhillinn.com
SUMMARY:The Mansion Hill Inn Presents Christopher Allen
DESCRIPTION:Traditional classical guitar repertoire\, including Spanish\, Brazilian\, and Cuban composers.\n\n\nIn conjunction with Make Music Madison\, we’re hosting a free classical guitar concert featuring Christopher Allen! Our bar will be open 5:30-10:00 pm\, with live music from 6:30-9 PM. Make Music Madison is a free\, citywide day of music that takes place every June 21st. Homepage – Make Music Madison \nAbout the Artist: Christopher Allen earned his Bachelor’s\, Master’s\, and Doctorate degrees in classical guitar performance. He has studied formally with Javier Calderon and Joseph Breznikar\, and has performed in masterclasses and private lessons with world renowned artists that include Carlos Barbosa-Lima\, Oscar Ghiglia\, Ben Verdery\, Sharon Isbin\, Ana Vidovic\, and Rene Izquierdo. After completing his formal education\, he founded the Madison Classical Guitar Society. Christopher has competed in international guitar festivals\, and is currently on the faculty at Madison College\, and the Monroe St. Arts Center in Madison\, WI.
URL:https://mansionhillinn.com/event/the-mansion-hill-inn-presents-christopher-allen-2/
LOCATION:Mansion Hill Inn\, 424 North Pinckney Street\, Madison\, WI\, 53703\, United States
END:VEVENT
BEGIN:VEVENT
DTSTART;TZID=America/Chicago:20250621T183000
DTEND;TZID=America/Chicago:20250621T210000
DTSTAMP:20260420T045005
CREATED:20250523T155704Z
LAST-MODIFIED:20250621T181209Z
UID:10000016-1750530600-1750539600@mansionhillinn.com
SUMMARY:The Mansion Hill Inn Presents Christopher Allen
DESCRIPTION:Traditional classical guitar repertoire\, including Spanish\, Brazilian\, and Cuban composers.\n\n\nIn conjunction with Make Music Madison\, we’re hosting a free classical guitar concert featuring Christopher Allen! Our bar will be open 5:30-10:00 pm\, with live music from 6:30-9 PM. Make Music Madison is a free\, citywide day of music that takes place every June 21st. Homepage – Make Music Madison \nAbout the Artist: Christopher Allen earned his Bachelor’s\, Master’s\, and Doctorate degrees in classical guitar performance. He has studied formally with Javier Calderon and Joseph Breznikar\, and has performed in masterclasses and private lessons with world renowned artists that include Carlos Barbosa-Lima\, Oscar Ghiglia\, Ben Verdery\, Sharon Isbin\, Ana Vidovic\, and Rene Izquierdo. After completing his formal education\, he founded the Madison Classical Guitar Society. Christopher has competed in international guitar festivals\, and is currently on the faculty at Madison College\, and the Monroe St. Arts Center in Madison\, WI.
URL:https://mansionhillinn.com/event/the-mansion-hill-inn-presents-christopher-allen/
LOCATION:Mansion Hill Inn\, 424 North Pinckney Street\, Madison\, WI\, 53703\, United States
ATTACH;FMTTYPE=image/jpeg:https://mansionhillinn.com/wp-content/uploads/2025/05/bcefa75c8b6a4af0649493d8477fc3de-b7LN0w.tmp_.jpg
END:VEVENT
BEGIN:VEVENT
DTSTART;TZID=America/Chicago:20250612T183000
DTEND;TZID=America/Chicago:20250612T210000
DTSTAMP:20260420T045005
CREATED:20250429T102449Z
LAST-MODIFIED:20250612T164946Z
UID:10000013-1749753000-1749762000@mansionhillinn.com
SUMMARY:Jazz & Cocktails with Mr. Chair
DESCRIPTION:Get ready to experience the freshest sounds in jazz with Mr. Chair!\n\n\nMr. Chair is a Madison-based dynamic and innovative ensemble composed of Jason Kutz (piano)\, Ben Ferris (bass) and Mike Koszewski (drums).  \nNote: Parlor seating is limited. To guarantee a seat\, advance ticket purchase is recommended.
URL:https://mansionhillinn.com/event/jazz-cocktails-with-mr-chair-3/
LOCATION:Mansion Hill Inn\, 424 North Pinckney Street\, Madison\, WI\, 53703\, United States
ATTACH;FMTTYPE=image/jpeg:https://mansionhillinn.com/wp-content/uploads/2025/04/39788c6047c58088004af8291d8f8c43-uKSczw.tmp_.jpg
END:VEVENT
BEGIN:VEVENT
DTSTART;TZID=America/Chicago:20250612T183000
DTEND;TZID=America/Chicago:20250612T210000
DTSTAMP:20260420T045005
CREATED:20250429T102449Z
LAST-MODIFIED:20250429T102449Z
UID:10000014-1749753000-1749762000@mansionhillinn.com
SUMMARY:Jazz & Cocktails with Mr. Chair
DESCRIPTION:Get ready to experience the freshest sounds in jazz with Mr. Chair!\n\n\nMr. Chair is a Madison-based dynamic and innovative ensemble composed of Jason Kutz (piano)\, Ben Ferris (bass) and Mike Koszewski (drums).  \nNote: Parlor seating is limited. To guarantee a seat\, advance ticket purchase is recommended.
URL:https://mansionhillinn.com/event/jazz-cocktails-with-mr-chair-4/
LOCATION:Mansion Hill Inn\, 424 North Pinckney Street\, Madison\, WI\, 53703\, United States
ATTACH;FMTTYPE=image/jpeg:https://mansionhillinn.com/wp-content/uploads/2025/04/39788c6047c58088004af8291d8f8c43-uKSczw.tmp_.jpg
END:VEVENT
BEGIN:VEVENT
DTSTART;TZID=America/Chicago:20250530T183000
DTEND;TZID=America/Chicago:20250530T210000
DTSTAMP:20260420T045005
CREATED:20250327T063718Z
LAST-MODIFIED:20250530T161423Z
UID:10000012-1748629800-1748638800@mansionhillinn.com
SUMMARY:Jazz & Cocktails with the Bill Roberts Combo
DESCRIPTION:The Bill Roberts Combo will be back with a jazz blues show on Friday\, 5/30\, 6:30-9 pm. Doors open at 5:30.\n\n\nJoin us at the elegant Mansion Hill Inn for a night of jazz blues and classic cocktails. The Bill Roberts Combo show will kick off at 6:30 pm (doors 5:30).
URL:https://mansionhillinn.com/event/jazz-cocktails-with-the-bill-roberts-combo-2/
LOCATION:Mansion Hill Inn\, 424 North Pinckney Street\, Madison\, WI\, 53703\, United States
ATTACH;FMTTYPE=image/jpeg:https://mansionhillinn.com/wp-content/uploads/2025/03/7575ed75015f109bbb3652e419c23fbe-UAooTd.tmp_.jpg
END:VEVENT
BEGIN:VEVENT
DTSTART;TZID=America/Chicago:20250516T183000
DTEND;TZID=America/Chicago:20250516T210000
DTSTAMP:20260420T045005
CREATED:20250325T062603Z
LAST-MODIFIED:20250516T155447Z
UID:10000011-1747420200-1747429200@mansionhillinn.com
SUMMARY:Jazz & Cocktails with the Gerri DiMaggio Trio
DESCRIPTION:Join us for a relaxing evening of Brazilian sambas and lush ballads.\n\n\n“Gerri DiMaggio’s take on jazz is as original as it is enticing. Her music is a sultry mix of Brazilian melodies along with a fresh blend of Jazz standards. The Latin sounds invite the audience into her own creative and colorful world. Throughout the music Gerri displays an emotional intelligence and musical sophistication that honors the traditions of Jazz and Latin rhythms telling stories with tones of sadness and bittersweet joy.” \n-Madison Jazz Calendar
URL:https://mansionhillinn.com/event/jazz-cocktails-with-the-gerri-dimaggio-trio/
LOCATION:Mansion Hill Inn\, 424 North Pinckney Street\, Madison\, WI\, 53703\, United States
ATTACH;FMTTYPE=image/jpeg:https://mansionhillinn.com/wp-content/uploads/2025/03/ed27c71ee819212af15123878877b32a-mUuw1V.tmp_.jpg
END:VEVENT
BEGIN:VEVENT
DTSTART;TZID=America/Chicago:20250425T183000
DTEND;TZID=America/Chicago:20250425T210000
DTSTAMP:20260420T045005
CREATED:20250325T062408Z
LAST-MODIFIED:20250425T100946Z
UID:10000010-1745605800-1745614800@mansionhillinn.com
SUMMARY:Jazz & Cocktails Featuring the Bill Roberts Combo
DESCRIPTION:The Bill Roberts Combo will be back with a jazz blues show on Friday\, April 25th. Doors 5:30 pm\, Show 6:30-9:00.\n\n\nJoin us for a relaxing night of music at the historic Mansion Hill Inn!  \n“Founded in 2014\, the Bill Roberts Combo brings a tight\, nuanced\, and rhythmically powerful presentation to blues-jazz unlike anything you’ve heard before. The Bill Roberts Combo plays many top venues in Madison and the upper Midwest. BRC delivers grace\, subtlety\, power and passion in their unique and mesmerizing take on the jazz-blues tradition every time they take the stage.”  \n– Madison Jazz Calendar
URL:https://mansionhillinn.com/event/jazz-cocktails-featuring-the-bill-roberts-combo-2/
LOCATION:Mansion Hill Inn\, 424 North Pinckney Street\, Madison\, WI\, 53703\, United States
ATTACH;FMTTYPE=image/jpeg:https://mansionhillinn.com/wp-content/uploads/2025/03/13be58c2c19beb4c16fee8d0e91a43db-xZXCrQ.tmp_.jpg
END:VEVENT
BEGIN:VEVENT
DTSTART;TZID=America/Chicago:20250417T183000
DTEND;TZID=America/Chicago:20250417T210000
DTSTAMP:20260420T045005
CREATED:20250319T053714Z
LAST-MODIFIED:20250417T092459Z
UID:10000009-1744914600-1744923600@mansionhillinn.com
SUMMARY:Jazz & Cocktails with the Ben Ferris Trio
DESCRIPTION:Join us for a night of innovative jazz with the Ben Ferris Trio!\n\n\nWe welcome the Ben Ferris Trio back to the Mansion Hill Inn on Thursday\, April 17th. Doors 5:30\, Show 6:30-9:00 pm.  \nBen Ferris – bassJason Kutz – keyboardWayne Salzmann II – drums
URL:https://mansionhillinn.com/event/jazz-cocktails-with-the-ben-ferris-trio/
LOCATION:Mansion Hill Inn\, 424 North Pinckney Street\, Madison\, WI\, 53703\, United States
ATTACH;FMTTYPE=image/jpeg:https://mansionhillinn.com/wp-content/uploads/2025/03/24609bae2709967b64d7b32f2ef58dd3-RBDbku.tmp_.jpg
END:VEVENT
BEGIN:VEVENT
DTSTART;TZID=America/Chicago:20250321T183000
DTEND;TZID=America/Chicago:20250321T210000
DTSTAMP:20260420T045005
CREATED:20250301T022215Z
LAST-MODIFIED:20250321T053810Z
UID:10000008-1742581800-1742590800@mansionhillinn.com
SUMMARY:Jazz & Cocktails with the Bill Roberts Combo
DESCRIPTION:Join us for a delightful evening of cocktails and jazz blues at the historic Mansion Hill Inn\n\n\nThe Bill Roberts Combo\, a crowd favorite\, will be back in the parlor on Friday\, 3/21. Show starts at 6:30 pm\, doors open 5:30.
URL:https://mansionhillinn.com/event/jazz-cocktails-with-the-bill-roberts-combo/
LOCATION:Mansion Hill Inn\, 424 North Pinckney Street\, Madison\, WI\, 53703\, United States
ATTACH;FMTTYPE=image/jpeg:https://mansionhillinn.com/wp-content/uploads/2025/02/df0aa615a43d7162e8fdfe6132091d68-XDMqAM.tmp_.jpg
END:VEVENT
BEGIN:VEVENT
DTSTART;TZID=America/Chicago:20250313T183000
DTEND;TZID=America/Chicago:20250313T210000
DTSTAMP:20260420T045005
CREATED:20250206T195459Z
LAST-MODIFIED:20250313T050948Z
UID:10000007-1741890600-1741899600@mansionhillinn.com
SUMMARY:Jazz & Cocktails with Mr. Chair
DESCRIPTION:A Mansion Hill Inn crowd favorite\, Mr. Chair “looks like a jazz combo\, enchants like a string quartet\, and electrifies like a rock band.”\n\n\nJoin us for a great evening of jazz with Mr. Chair! Doors 5:30\, Show 6:30.
URL:https://mansionhillinn.com/event/jazz-cocktails-with-mr-chair-2/
LOCATION:Mansion Hill Inn\, 424 North Pinckney Street\, Madison\, WI\, 53703\, United States
ATTACH;FMTTYPE=image/jpeg:https://mansionhillinn.com/wp-content/uploads/2025/02/4f2d01722eec4bf7cb5360b3de34fd68-hv46yS.tmp_.jpg
END:VEVENT
BEGIN:VEVENT
DTSTART;TZID=America/Chicago:20250311T183000
DTEND;TZID=America/Chicago:20250311T210000
DTSTAMP:20260420T045005
CREATED:20250206T195457Z
LAST-MODIFIED:20250311T043854Z
UID:10000005-1741717800-1741726800@mansionhillinn.com
SUMMARY:Louka & Co. with John Christensen & Jason Kutz
DESCRIPTION:Singer-songwriter Louka Patenaude brings his roots crossover show to MHI. He’s joined by John Christensen on bass & Jason Kutz on piano.\n\n\nParlor Sessions V will kick off at 6:30 PM / Doors 5:30. Louka Patenaude is a Madison-based singer-songwriter\, talented guitarist\, producer\, and UW-Madison teacher. He’ll be joined by John Christensen on bass and Jason Kutz on piano. \nAbout Louka | Louka Sound
URL:https://mansionhillinn.com/event/louka-co-with-john-christensen-jason-kutz/
LOCATION:Mansion Hill Inn\, 424 North Pinckney Street\, Madison\, WI\, 53703\, United States
ATTACH;FMTTYPE=image/jpeg:https://mansionhillinn.com/wp-content/uploads/2025/02/5be271cca1ab47f420cd694876cdc010-Rqgkbg.tmp_.jpg
END:VEVENT
BEGIN:VEVENT
DTSTART;TZID=America/Chicago:20250307T183000
DTEND;TZID=America/Chicago:20250307T210000
DTSTAMP:20260420T045005
CREATED:20250204T010055Z
LAST-MODIFIED:20250307T032301Z
UID:10000004-1741372200-1741381200@mansionhillinn.com
SUMMARY:Caravan
DESCRIPTION:Join us for an evening of music with Caravan\, an authentic Django Reinhardt style jazz manouche band\n\n\nCaravan is a world traveling instrumental acoustic jazz group based in Madison\, Wisconsin. They are primarily influenced by the legendary Romani Jazz guitarist Django Reinhardt. The ensemble also pulls influences from American jazz\, European Folk Music\, traditional Latin\, Parisian waltz\, and other vintage-jazz sources. Expect a range of tunes from the “Hot Swing” repertoire\, originals\, and standards done in uniquely arranged styles. \nChristo Ruppenthal – Acoustic GuitarScott Hlavenka – Acoustic GuitarKevin Tipple – Upright BassGreg Smith – Clarinet / Saxophone / Aux. Percussion
URL:https://mansionhillinn.com/event/caravan/
LOCATION:Mansion Hill Inn\, 424 North Pinckney Street\, Madison\, WI\, 53703\, United States
ATTACH;FMTTYPE=image/jpeg:https://mansionhillinn.com/wp-content/uploads/2025/02/49fb192c5db0f5d8577ed3eaccbdc9e3-XjRS4r.tmp_.jpg
END:VEVENT
BEGIN:VEVENT
DTSTART;TZID=America/Chicago:20250227T183000
DTEND;TZID=America/Chicago:20250227T210000
DTSTAMP:20260420T045005
CREATED:20250204T010055Z
LAST-MODIFIED:20250228T020813Z
UID:10000003-1740681000-1740690000@mansionhillinn.com
SUMMARY:Jazz & Cocktails Featuring Jason Kutz & Jon Irabagon
DESCRIPTION:Join us for cocktails and an engaging night of experimental jazz!\n\n\nJason Kutz and Jon Irabagon will perform their spontaneously composed collection of preludes and nocturnes. The music will combine their many outlandish sources of inspiration into an aural stream-of-consciousness. Performing together in a variety of settings for over two years\, Jason and Jon connect via a mutual admiration for all things beautiful\, nostalgic\, esoteric\, and quirky. \nJason Kutz is a musician based in Madison\, playing\, performing\, teaching\, and composing all styles of music. He is rooted in contemporary music and improvisation\, often combining acoustic and classical piano styles with electronic synthesis. He studied recording technology and music business at UW-Oshkosh\, and completed his Master’s in Piano Performance at UW-Madison. He is a founding member of Mr. Chair\, an innovative and inimitable ensemble that plays music in its own style. Mr. Chair was the WAMI Jazz Artist of the Year 2021. \nWinner of the 2008 Thelonious Monk Jazz Competition and one of Time Out‘s 25 essential New York City jazz icons\, Jon Irabagon is known for the breadth of his work on a jazz continuum ranging “from postbob to free improvisation\, avant country to doom metal.”
URL:https://mansionhillinn.com/event/jazz-cocktails-featuring-jason-kutz-jon-irabagon/
LOCATION:Mansion Hill Inn\, 424 North Pinckney Street\, Madison\, WI\, 53703\, United States
ATTACH;FMTTYPE=image/jpeg:https://mansionhillinn.com/wp-content/uploads/2025/02/6ea23618cbf461e653db8b54f91d219d-MnHPDH.tmp_.jpg
END:VEVENT
BEGIN:VEVENT
DTSTART;TZID=America/Chicago:20250214T183000
DTEND;TZID=America/Chicago:20250214T210000
DTSTAMP:20260420T045005
CREATED:20250204T010054Z
LAST-MODIFIED:20250214T222240Z
UID:10000002-1739557800-1739566800@mansionhillinn.com
SUMMARY:Jazz & Cocktails Featuring the Bill Roberts Combo
DESCRIPTION:Sip a cocktail and celebrate love!\n\n\nThe Bill Roberts Combo will be playing jazz blues in the parlor on 2/14 from 6:30-9 pm. Doors open at 5:30.  \nAbout the band: \n“Featuring one of Madison’s finest guitarists\, Bill Roberts\, this group serves up a healthy entree of hot jazz-blues guitar\, with side dishes of soulful bass\, spicy piano\, delicious beats.” -Isthmus
URL:https://mansionhillinn.com/event/jazz-cocktails-featuring-the-bill-roberts-combo/
LOCATION:Mansion Hill Inn\, 424 North Pinckney Street\, Madison\, WI\, 53703\, United States
ATTACH;FMTTYPE=image/jpeg:https://mansionhillinn.com/wp-content/uploads/2025/02/21aa3102292ead2e2f133fd033d1510c-UGk4EQ.tmp_.jpg
END:VEVENT
BEGIN:VEVENT
DTSTART;TZID=America/Chicago:20250204T183000
DTEND;TZID=America/Chicago:20250204T210000
DTSTAMP:20260420T045005
CREATED:20250204T010053Z
LAST-MODIFIED:20250204T010712Z
UID:10000001-1738693800-1738702800@mansionhillinn.com
SUMMARY:The Mansion Hill Inn Presents Parlor Sessions IV with RÆL the Artist
DESCRIPTION:RÆL The Artist is a songwriter and rapper who utilizes Hip-Hop music as a way to inspire\, encourage\, and uplift.\n\n\nRÆL aspires to make music that brings faith\, hope\, and love to the lives of every one of his listeners. “Love Never Fails\,” featuring local artists Elliott\, Vilij\, & Xavierené\, is a show curated by RÆL for the Madison community to come relax\, enjoy themselves\, and listen to rap music on the topics of faith and love.
URL:https://mansionhillinn.com/event/the-mansion-hill-inn-presents-parlor-sessions-iv-with-rael-the-artist/
LOCATION:Mansion Hill Inn\, 424 North Pinckney Street\, Madison\, WI\, 53703\, United States
ATTACH;FMTTYPE=image/jpeg:https://mansionhillinn.com/wp-content/uploads/2025/02/6d58c2632dc1ae4d0befa60d7fb9cb76-iwmh5E.tmp_.jpg
END:VEVENT
END:VCALENDAR